BEGIN:VCALENDAR
VERSION:2.0
PRODID:-//DXI Training Solutions - ECPv6.15.20//NONSGML v1.0//EN
CALSCALE:GREGORIAN
METHOD:PUBLISH
X-ORIGINAL-URL:https://dxitrainingsolutions.com
X-WR-CALDESC:Events for DXI Training Solutions
REFRESH-INTERVAL;VALUE=DURATION:PT1H
X-Robots-Tag:noindex
X-PUBLISHED-TTL:PT1H
BEGIN:VTIMEZONE
TZID:America/New_York
BEGIN:DAYLIGHT
TZOFFSETFROM:-0500
TZOFFSETTO:-0400
TZNAME:EDT
DTSTART:20250309T070000
END:DAYLIGHT
BEGIN:STANDARD
TZOFFSETFROM:-0400
TZOFFSETTO:-0500
TZNAME:EST
DTSTART:20251102T060000
END:STANDARD
BEGIN:DAYLIGHT
TZOFFSETFROM:-0500
TZOFFSETTO:-0400
TZNAME:EDT
DTSTART:20260308T070000
END:DAYLIGHT
BEGIN:STANDARD
TZOFFSETFROM:-0400
TZOFFSETTO:-0500
TZNAME:EST
DTSTART:20261101T060000
END:STANDARD
BEGIN:DAYLIGHT
TZOFFSETFROM:-0500
TZOFFSETTO:-0400
TZNAME:EDT
DTSTART:20270314T070000
END:DAYLIGHT
BEGIN:STANDARD
TZOFFSETFROM:-0400
TZOFFSETTO:-0500
TZNAME:EST
DTSTART:20271107T060000
END:STANDARD
END:VTIMEZONE
BEGIN:VEVENT
DTSTART;TZID=America/New_York:20260423T080000
DTEND;TZID=America/New_York:20260424T170000
DTSTAMP:20260419T101409
CREATED:20260323T234415Z
LAST-MODIFIED:20260323T234415Z
UID:10000011-1776931200-1777050000@dxitrainingsolutions.com
SUMMARY:NDTC De-escalation Principals and Practice
DESCRIPTION:De-escalation: Principles & Practice is a 16-hr classroom course that delivers best practices in de-escalation\, including procedural justice\, language that de-escalates situations\, officer adjustments for varying threat stages and environments\, body language\, conflict management\, recognizing mental health and disability issues\, and means to adjust interactions based upon rapid personality identification. Also included are de-escalation and prevention of escalation while maintaining professionalism\, respectfulness\, and self-control\, particularly if insulting or disrespectful language and behavior are present. A variety of examples of officer responses\, in combination with scenarios\, are included in this engaging and interactive training. \n 
URL:https://dxitrainingsolutions.com/event/ndtc-de-escalation-principals-and-practice-4/
LOCATION:Okmulgee\, Okmulgee\, OK
END:VEVENT
END:VCALENDAR